BEGIN:VCALENDAR
VERSION:2.0
METHOD:PUBLISH
BEGIN:VEVENT
UID:WILD_APRICOT_EVENT_3744966_SESSION_1
DTSTART:20210227T130000Z
DTEND:20210228T130000Z
SUMMARY:2020 AAGE Graduate Survey Purchase
LOCATION:Soft copy - sent via email
DESCRIPTION:https://aage.com.au/event-3744966\n\n\nClick 'Register' to purchase the survey\n  The 2020 Graduate Survey is based on research conducted by the AAGE with 3\,320 responses from the 2019 intake of graduates\, i.e. graduates who have been working for an organisation for around 12 months.\n  The survey provides the latest market information on:\n- Employee profiles\n - Satisfaction levels\n - Expectations and plans for the future.\n  Year after year\, employers have found the survey to be an invaluable resource\, allowing them to benchmark themselves against market best practice and plan their upcoming campaigns.\n  Members must log into their profile to access the member rate.\n  Please contact surveys@aage.com.au with any queries.\n
DTSTAMP:20200229T225814Z
END:VEVENT
END:VCALENDAR
