BEGIN:VCALENDAR
VERSION:2.0
METHOD:PUBLISH
BEGIN:VEVENT
UID:WILD_APRICOT_EVENT_3636596_SESSION_1
DTSTART:20201230T130000Z
DTEND:20201231T130000Z
SUMMARY:2020 AAGE Employer Survey Purchase
LOCATION:Soft copy only - PDF sent via email\,
DESCRIPTION:https://aage.com.au/event-3636596\n\n\nClick 'Register' to purchase the survey\n  \n  The 2020 Employer Survey is based on research conducted by the AAGE with 110 different organisations taking part in 2018.\n  The AAGE Employer Survey provides the latest information on:\n- Vacancy levels for graduates commencing work in 2020\n - Salary levels for new graduates starting work in 2020\n - Application levels and selection processes used by recruiters in 2019\n - Marketing spend for events and activities in 2019.\n    Released each year\, this study was the first of its kind to be made commercially available. Outlining some important and interesting trends in our growing industry\, the survey captures responses from various industry organisations\, providing ways for members to benchmark themselves against their competitors and help them to plan for upcoming graduate recruitment campaigns. Members have access to a discounted price and members who participate receive a complimentary soft copy of the report.\n  Members must log into their profile to access the member rate.\n  Please contact surveys@aage.com.au with any queries.\n
DTSTAMP:20200229T225653Z
END:VEVENT
END:VCALENDAR
