BEGIN:VCALENDAR
VERSION:2.0
METHOD:PUBLISH
BEGIN:VEVENT
UID:WILD_APRICOT_EVENT_3622934_SESSION_1
DTSTART:20200116T000000Z
DTEND:20200116T040000Z
SUMMARY:2020 AAGE Practitioner Master Class - Brisbane (Employers Only)
LOCATION:Anglo American - Level 11\, 201 Charlotte Street\, Brisbane CBD
DESCRIPTION:https://aage.com.au/event-3622934\n\n\nBest practice training in the fundamentals of graduate recruitment and development\n  The AAGE Practitioner Master Class will provide participants with an overview of best practice in the fundamentals of Graduate Recruitment and Development.\n  The target audience for these Master Classes are employer representatives with 0 to 12 months’ experience in the graduate recruitment and development industry. We would normally expect around 10-20 people at each Master Class.\n  Each Master Class will last for half a day and will consist of 4 sessions of 45-60 minutes each.  These 4 sessions will cover the basic elements of managing a graduate recruitment and development program. Sessions will be presented by the AAGE and some of our employer members.\n  The 4 sessions are as follows:\n      * Attraction (attraction strategies and marketing channels. e.g. careers fairs\, student societies\, careers directories\, job boards\, social media etc.)\n\n        * Assessment and selection (mechanisms for identifying and assessing competencies. e.g. application forms\, screening\, aptitude testing\, assessment centres\, interviewing\, video interviewing\, outsourcing etc.)\n\n        * Graduate development programs (design and structure of Graduate Development Programs including rotations\, buddies\, mentors\, on-boarding\, technical training\, “soft skills” training etc.)\n\n        * Useful information (An overview of the various sources of help and information available to AAGE members. E.g. Benchmarking surveys\, semester dates\, careers fair timetables\, UniStats\, SocList\, Whirlpool\, WGEA\, AGRIAs\, Top Graduate Employers\, Top Intern Programs\, etc.)\n\n   Members are able to attend this event for free. Member Colleagues and Non Members will be charged $200 + GST. To clarify your membership status\, please contact memberships@aage.com.au.\n\n  \nCatering\nMorning tea and a light lunch tea are all included. Please provide any dietary requirements on your registration form. Special dietary requirements often require a specific meal to be prepared for you. Please ensure that you arrive in time to enjoy it if one has been requested.  \nCancellations\nIn order for us to cater appropriately\, please let us know if you need to cancel your attendance. In order to cancel an invoice raised OR receive a refund for event attendance\, the AAGE requires a MINIMUM of 24 hours' notice to receive notice of your intention to cancel. All cancellation requests need to be received in writing via events@aage.com.au.\n  \nEnquiries\nPlease contact events@aage.com.au.   
DTSTAMP:20260424T164440Z
END:VEVENT
END:VCALENDAR
