BEGIN:VCALENDAR
VERSION:2.0
METHOD:PUBLISH
BEGIN:VEVENT
UID:WILD_APRICOT_EVENT_3404678_SESSION_1
DTSTART:20200310T030000Z
DTEND:20200310T060000Z
SUMMARY:The Big Meet 2020\, Perth - Exhibitor Booking
LOCATION:Pavilion 1\, Perth Convention Exhibition Centre\, 21 Mounts Bay Road\, Perth\, WA
DESCRIPTION:https://aage.com.au/event-3404678\n\nWe are pleased to offer organisations the opportunity to exhibit at The Big Meet 2020.\n  \nWhat is The Big Meet?\n  The Big Meet is a one day careers fair which is promoted to all students from all universities in the host city.\n  \nWhy Exhibit?\n  The Big Meet provides the perfect solution for exhibitors wishing to maximise their exposure to potential candidates whilst minimising their costs. If you have limited time\, resources or budget\, The Big Meet is the ideal way to reach the right students from a range of universities in one day.\n  \nWho Exhibits?\n  The following organisations have booked to exhibit at the 2020 Perth Big Meet:\n  Alstom\, Australian Federal Police\, Australian Taxation Office\, Chevron Australia\, Consulate General of Canada\, Defence Force Recruiting \, Department of Defence\, Department of Education (WA)\, Department of Home Affairs\, Department of Human Services\, Department of Infrastructure\, Transport\, Cities and Regional Development\, Department of Mines\, Industry Regulation and Safety (WA)\, Department of Veterans' Affairs\, ENREACH Education\, FDM Group Australia Pty Ltd\, GradAustralia \, Mainfreight\,Navitas Professional\, Planit Testing\, Saab Australia \, Santos Ltd\, Water Corporation.                                          \n  The following organisations exhibited at the 2019 Perth Big Meet:\n  ACS Foundation\, ASIO\, Australian Federal Police\, Australian Signals Directorate\, Australian Taxation Office\, Australian Wool Innovation\, Bankwest\, BGC Contracting\, BP Australia\, British American Tobacco Australasia\, Cisco\, Coles\, Defence Force Recruiting\, Department of Communities (WA)\, Department of Defence\, Department of Education (WA)\, Department of Home Affairs\, Department of Infrastructure\, Regional Development and Cities\, Department of Mines\, Industry Regulation and Safety (WA)\, Department of Veterans' Affairs (DVA)\, Financial Planning Association of Australia\, FTI Consulting Australia\, GradAustralia\, Kloud & Readify\, Linfox\, Murdoch University\, Navitas\, Newcrest Mining Limited\, Project Everest Ventures\, Readygrad\, Schneider Electric\, Sugarman International\, The Treasury\, Water Corporation.\n  \nThe Big Meet will be held in the following cities in 2020:\n      * Perth - Tuesday 10th March 2020\n\n        * Adelaide - Friday 13th March 2020\n\n        * Brisbane - Monday 23rd March 2020\n\n        * Melbourne - Friday 27th March 2020\n\n        * Sydney - Friday 3rd April 2020\n\n  Click the city name above to be taken to the booking form or click here to book all five cities at the bulk discount rate.\n  \nTerms and Conditions\n  Please read these Terms and Conditions carefully. By submitting your registration\, you are agreeing to be bound by the following terms and conditions:\n  1. You agree that the organisation you represent (as detailed by you in this booking form) will pay the full amount due from this booking.\n  2. You cannot exhibit at any of The Big Meet events in this booking until full payment has been received.\n  3. You will receive an automated invoice which is payable by the EARLIER of:\n  a. 30 days from the date of the invoice\; or\n  b. the day before the date of the first Big Meet 2020 that your organisation has booked.\n  If the invoice is not paid within this timeframe\, the AAGE reserves the right to cancel the booking or to remove the eligibility for any discounted prices.\n  4. Only the exhibitor that is named in this registration can exhibit at The Big Meet. Exhibitors cannot sell on or sublet their booking to other organisations.\n  5. No refunds will be given for cancellations. This applies to all registrations received and is enforced irrespective of if an invoice has been raised or not\, or if an invoice remains paid or unpaid.\n  6. Our venues do not allow exhibitors to give away substantial food items (e.g. muffins\, doughnuts etc) to students during The Big Meet unless you have completed the food waiver and paid the appropriate venue charge. A small bowl of lollies or chocolate are exempt from this requirement. Please note\, this will be the responsibility of the exhibitor to follow up the requirements with the venue contact.\n  7. Your registration may be refused at the sole and absolute discretion of the AAGE.\n\n
DTSTAMP:20260424T160842Z
END:VEVENT
END:VCALENDAR
