BEGIN:VCALENDAR
VERSION:2.0
METHOD:PUBLISH
BEGIN:VEVENT
UID:WILD_APRICOT_EVENT_3404675_SESSION_1
DTSTART:20200327T000000Z
DTEND:20200327T040000Z
SUMMARY:The Big Meet 2020\, Melbourne - Exhibitor Booking
LOCATION:Palladium at Crown\, 8 Whiteman Street\, Southbank\, VIC
DESCRIPTION:https://aage.com.au/event-3404675\n\nWe are pleased to offer organisations the opportunity to exhibit at The Big Meet 2020.\n  \nWhat is The Big Meet?\n  The Big Meet is a one day careers fair which is promoted to all students from all universities in the host city.\n  \nWhy Exhibit?\n  The Big Meet provides the perfect solution for exhibitors wishing to maximise their exposure to potential candidates whilst minimising their costs. If you have limited time\, resources or budget\, The Big Meet is the ideal way to reach the right students from a range of universities in one day.\n  \nWho Exhibits?\n  The following organisations have booked to exhibit at the 2020 Melbourne Big Meet:\n  Alinta Energy\; Loy Yang B Power Station\, Alstom\, AMP Services Limited\, ANZ\, Attorney-General's Department\, Australia Post\,Australian Federal Police\, Australian Taxation Office\, BAE Systems Australia\, Boral\, Capgemini\, Careers in Insurance\, Carlton & United Breweries\, carsales.com Ltd\, Caterpillar\, CEA Technologies\, Civilex Victoria\, Coles\, CSL Behring\, Defence Force Recruiting \,Department of Defence\, Department of Home Affairs\, Department of Human Services\, Department of Infrastructure\, Transport\, Cities and Regional Development\, Department of Justice and Community Safety\, Department of Social Services\, Department of the Treasury\, Department of Veterans' Affairs\, Downer Group\, ENREACH Education\, FDM Group Australia Pty Ltd\, Financial Planning Association of Australia\, Forethought Research\, Frank Recruitment Group\, GradAustralia Pty Ltd.\, IBM Australia Limited\,Infosys\, Kraft Heinz\, L'Oreal\, Linfox\, Mainfreight\, McConnell Dowell\, National Australia Bank Ltd\, Navitas Professional\, NEC Australia Pty Ltd\, Ocean Software\, Perpetual / Fordham\, Pitcher Partners Advisors Pty Ltd\, Planit Testing\, Project Everest Ventures\, Readygrad\, Reece Group\, RSM Australia Pty Ltd\, Saab Australia\, Siemens Healthineers\, Thales Australia\, Thermo Fisher Scientific Scoresby\, Toll\, Victorian Government graduate program.                                                                                                                 \n  The following organisations exhibited at the 2019 Melbourne Big Meet:\n  7-Eleven\, ABD Group\, Ace Contractors Group\, ACS Foundation\, Akuna Capital\, Alstom\, AMP Services\, AMP Services\, APA Group\, APT Travel Group\, ASIO\, Attorney-General's Department\, Aurecon Australiasia\, Australian Communications and Media Authority\, Australian Community Support Organisation (ACSO)\, Australian Federal Police\, Australian Securities and Investments Commission\, Australian Signals Directorate\, Australian Taxation Office\, Australian Wool Innovation\, AustralianSuper\, Bega Cheese Limited\, BHP\, BP Australia\, British American Tobacco Australasia\, Built\, Capgemini Australia\, Careers In Insurance\, Carlton & United Breweries\, carsales.com\, Cisco Systems Australia\, Civilex Victoria\, Cognizant\, Coles\, CSL Australia\, Defence Force Recruiting\, Dentsu Aegis Network\, Department of Agriculture and Water Resources\, Department of Defence\, Department of Home Affairs\, Department of Human Services\, Department of Industry Innovation and Science\, Department of Infrastructure\, Regional Development and Cities\, Department of Jobs and Small Business\, Department of Justice and Regulation (VIC)\, Department of Social Services\, Department of Veterans' Affairs (DVA)\, Digital Transformation Agency\, Downer Group\, DXC Technology\, Evans Dixon\, Eventbrite\, Financial Planning Association of Australia\, Findex\, Ford Motor Company of Australia\, Frank Recruitment Group\, GHD\, GradAustralia\, GradConnection\, Honeywell Ltd\, Hydro Tasmania\, IBM\, Infosys LTD\, IRESS\, Ixom\, Jetstar\, Kloud & Readify\, Kraft Heinz\, Leidos\, Linfox\, Lockheed Martin\, Lockheed Martin Australia\, L'Oreal\, Mainfreight\, McConnell Dowell\, MECCA Brands\, Monash Professional Pathways\, National Australia Bank\, Navitas\, NEC Australia\, Netwealth Investments\, Newcrest Mining\, NotedCareers\, Perpetual / Fordham\, Pitcher Partners\, Port Phillip Publishing\, Project Everest Ventures\, RACV\, Readygrad\, Reece Group\, Rentality\, ResMed\, RMIT\, RSM Australia\, Saab Australia\, Schneider Electric\, Science and Planning Graduate Program\, Victorian Government\, Servian\, ShineWing Australia\, Siemens Healthineers\, Sika Australia\, Suncorp\, Swagelok Eastern Australia & New Zealand\, TechnologyOne\, Telstra\, Thales Australia\, The Australian National University\, The Treasury\, The Westpac Group\, The Melbourne Metro Water Partnership\, Thermo Fisher Scientific\, Toll\, VicRoads\, Victoria Police\, Victoria's Big Build\, VPS GRADS\, Wrike.\n  \nThe Big Meet will be held in the following cities in 2020:\n      * Perth - Tuesday 10th March 2020\n\n        * Adelaide - Friday 13th March 2020\n\n        * Brisbane - Monday 23rd March 2020\n\n        * Melbourne - Friday 27th March 2020\n\n        * Sydney - Friday 3rd April 2020\n\n  Click the city name above to be taken to the booking form or click here to book all five cities at the bulk discount rate.\n  \nTerms and Conditions\n  Please read these Terms and Conditions carefully. By submitting your registration\, you are agreeing to be bound by the following terms and conditions:\n  1. You agree that the organisation you represent (as detailed by you in this booking form) will pay the full amount due from this booking.\n  2. You cannot exhibit at any of The Big Meet events in this booking until full payment has been received.\n  3. You will receive an automated invoice which is payable by the EARLIER of:\n  a. 30 days from the date of the invoice\; or\n  b. the day before the date of the first Big Meet 2020 that your organisation has booked.\n  If the invoice is not paid within this timeframe\, the AAGE reserves the right to cancel the booking or to remove the eligibility for any discounted prices.\n  4. Only the exhibitor that is named in this registration can exhibit at The Big Meet. Exhibitors cannot sell on or sublet their booking to other organisations.\n  5. No refunds will be given for cancellations. This applies to all registrations received and is enforced irrespective of if an invoice has been raised or not\, or if an invoice remains paid or unpaid.\n  6. Our venues do not allow exhibitors to give away substantial food items (e.g. muffins\, doughnuts etc) to students during The Big Meet unless you have completed the food waiver and paid the appropriate venue charge. A small bowl of lollies or chocolate are exempt from this requirement. Please note\, this will be the responsibility of the exhibitor to follow up the requirements with the venue contact.\n  7. Your registration may be refused at the sole and absolute discretion of the AAGE.\n\n
DTSTAMP:20200229T230358Z
END:VEVENT
END:VCALENDAR
