BEGIN:VCALENDAR
VERSION:2.0
METHOD:PUBLISH
BEGIN:VEVENT
UID:WILD_APRICOT_EVENT_3387601_SESSION_1
DTSTART:20200429T140000Z
DTEND:20200430T140000Z
SUMMARY:2019 AAGE Intern Survey Purchase
LOCATION:Soft copy - sent via email
DESCRIPTION:https://aage.com.au/event-3387601\n\n\nClick 'Register' to purchase the survey\n  \n  The 2019 AAGE Intern Survey is based on research conducted by the AAGE\, with over 1\,300 responses from students across 93 organisations who have completed an internship during the past 12 months.\n  \n The survey provides the latest market information on:\n- Promotions and sources of information used by interns\n - Satisfaction levels\n - Ratings of internships and employers.\n  Year after year\, employers have found the survey to be an invaluable resource\, allowing them to benchmark themselves against market best practice and plan their upcoming campaigns.\n  Members must log into their profile to access the member rate.\n  Please contact surveys@aage.com.au with any queries.\n
DTSTAMP:20200229T225826Z
END:VEVENT
END:VCALENDAR
