BEGIN:VCALENDAR
VERSION:2.0
METHOD:PUBLISH
BEGIN:VEVENT
UID:WILD_APRICOT_EVENT_3324242_SESSION_1
DTSTART:20200429T140000Z
DTEND:20200430T140000Z
SUMMARY:2019 AAGE Graduate Survey Purchase
LOCATION:Soft copy - sent via email
DESCRIPTION:https://aage.com.au/event-3324242\n\n\nClick 'Register' to purchase the survey\n  The 2019 Graduate Survey is based on research conducted by the AAGE with 3\,366 responses from the 2018 intake of graduates\, i.e. graduates who have been working for an organisation for around 12 months.\n  The survey provides the latest market information on:\n- Employee profiles\n - Satisfaction levels\n - Expectations and plans for the future.\n  Year after year\, employers have found the survey to be an invaluable resource\, allowing them to benchmark themselves against market best practice and plan their upcoming campaigns.\n  Members must log into their profile to access the member rate.\n  Please contact surveys@aage.com.au with any queries.\n
DTSTAMP:20260424T175529Z
END:VEVENT
END:VCALENDAR
