BEGIN:VCALENDAR
VERSION:2.0
METHOD:PUBLISH
BEGIN:VEVENT
UID:WILD_APRICOT_EVENT_3227234_SESSION_1
DTSTART:20191126T040000Z
DTEND:20191126T060000Z
SUMMARY:2019 Diversity and Inclusion Roundtable - Perth
LOCATION:Bankwest\, Bankwest Place 300 Murray Street\, Perth
DESCRIPTION:https://aage.com.au/event-3227234\n\n\nWhat's on your mind?\n  You are invited to join us for the AAGE's Diversity and Inclusion Roundtable.\n    \n This is an exciting opportunity to meet your peers from the graduate resourcing and development industry to discuss a range of issues related to diversity and inclusion:\n      *             How to attract applications from different diversity groups             \n\n        *             Targets and quotas set by management             \n\n        *             Benchmarking data on the numbers of graduates from different diversity groups.\n                                 \n\n  \nCost\n  Complimentary entry for AAGE members.\n  Non-members and member colleagues may attend for $40 + GST.   \n  Members must be logged in to access complimentary registration.\n  NOTE: To keep overall numbers manageable\, we request that each industry association\, service provider and university registers no more than 2 representatives for each separate event.\n  \nCancellations\nIn order for us to cater appropriately\, please let us know if you need to cancel your attendance. In order to cancel an invoice raised OR receive a refund for event attendance\, the AAGE requires a MINIMUM of 24 hours' notice to receive notice of your intention to cancel. All cancellation requests need to be received in writing via events@aage.com.au.\n  \nEnquiries\nPlease contact events@aage.com.au.    
DTSTAMP:20260424T161046Z
END:VEVENT
END:VCALENDAR
