BEGIN:VCALENDAR
VERSION:2.0
METHOD:PUBLISH
BEGIN:VEVENT
UID:WILD_APRICOT_EVENT_3227197_SESSION_1
DTSTART:20190620T023000Z
DTEND:20190620T043000Z
SUMMARY:2019 Campaign Debrief Roundtable - Adelaide
LOCATION:SA Water - 250 Victoria Square\, Adelaide
DESCRIPTION:https://aage.com.au/event-3227197\n\n\nWhat's happening in your world?\n\n  You are invited to join us for the AAGE's upcoming Campaign Debrief Roundtables.\n  This is an exciting opportunity for employers to discuss the progress of this year's recruitment campaign with their peers. Find out the latest information on: \n      * the volume of applications received\;\n\n\n        * the quality of candidates\;\n\n\n        * the effectiveness of different assessment tools\;\n\n\n        * candidate acceptance rates\;\n\n\n        * diversity recruitment\; \n\n\n        * etc\n\n\n  Please suggest the items you are interested in discussing when you register for this event.\n  NOTE: Where an organisation has multiple memberships\, to keep overall numbers manageable\, we request that each organisation sends no more than 2 representatives.\n\n  \nCost\n  Complimentary entry for AAGE members.\n  Non-members and member colleagues may attend for $40 + GST.   \n  Please note that members must be logged in to access complimentary registration.\n  Cancellations\n\nIn order for us to cater appropriately\, please let us know if you need to cancel your attendance. In order to cancel an invoice raised OR receive a refund for event attendance\, the AAGE requires a MINIMUM of 24 hours' notice to receive notice of your intention to cancel. All cancellation requests need to be received in writing via events@aage.com.au.\n  \nEnquiries\nPlease contact events@aage.com.au.    
DTSTAMP:20260424T161140Z
END:VEVENT
END:VCALENDAR
