BEGIN:VCALENDAR
VERSION:2.0
METHOD:PUBLISH
BEGIN:VEVENT
UID:WILD_APRICOT_EVENT_3130048_SESSION_1
DTSTART:20190131T020000Z
DTEND:20190131T043000Z
SUMMARY:2019 Attraction and Assessment Roundtable - Brisbane
LOCATION:Origin Energy\, Level 28\, 180 Ann Street\, Brisbane
DESCRIPTION:https://aage.com.au/event-3130048\n\n\nWhat's on your mind?\n  You are invited to join us for the AAGE's Attraction and Assessment Roundtable.\n     \n This is an exciting opportunity to meet your peers from the graduate resourcing and development industry to discuss a range of issues related to attraction and assessment:     \n      * What attraction strategies are being used for the 2019 recruitment season? \n\n        * How successful are marketing channels such as careers fairs\, campus ambassadors and social media?\n\n        * ​What attributes are employers seeking during the 2019 campaign?​ \n\n        * Are employers using competency frameworks\, success profiling or strengths-based assessment?\n\n        * ​What assessment tools are employers using to screen and select their candidates? \n\n        * How useful are aptitude tests\, ​video interviews or gamification?​\n\n\n  \nCost\n  Complimentary entry for AAGE members.\n  Non-members and member colleagues may attend for $40 + GST.   \n  Please note that members must be logged in to access complimentary registration.\n  NOTE: To keep overall numbers manageable\, we request that each organisation sends no more than 3 representatives.\n  \nCancellations\nIn order for us to cater appropriately\, please let us know if you need to cancel your attendance. In order to cancel an invoice raised OR receive a refund for event attendance\, the AAGE requires a MINIMUM of 24 hours' notice to receive notice of your intention to cancel. All cancellation requests need to be received in writing via events@aage.com.au.\n  \nEnquiries\nPlease contact events@aage.com.au.    
DTSTAMP:20260424T160659Z
END:VEVENT
END:VCALENDAR
