BEGIN:VCALENDAR
VERSION:2.0
METHOD:PUBLISH
BEGIN:VEVENT
UID:WILD_APRICOT_EVENT_2427251_SESSION_1
DTSTART:20211230T130000Z
DTEND:20211231T130000Z
SUMMARY:The AAGE 'How To' Handbook: A guide to graduate recruitment
LOCATION:Soft copy only - Link sent via email
DESCRIPTION:https://aage.com.au/event-2427251\n\n\nClick 'Register' to purchase the handbook\n  The AAGE 'How To' Handbook: A guide to graduate recruitment has been produced by the Australian Association of Graduate Employers Ltd (AAGE). A subcommittee of graduate recruitment industry veterans\, whose careers have been dedicated to the recruitment and development of graduates\, have shared and combined their experience and ideas\, giving rise to this publication.\n  The handbook is designed to assist those new to the industry\, as well as serve those who are already involved in graduate recruitment to seek best practice.\n  Topics include the attraction\, selection\, induction and development of graduates\, and content is included regarding professional development for graduate employers themselves.\n  Members must log into their profile to access the member rate.\n  Please contact info@aage.com.au with any queries.\n  
DTSTAMP:20200229T225837Z
END:VEVENT
END:VCALENDAR
